BEGIN:VCALENDAR
VERSION:2.0
PRODID:-//Tukios.com/
BEGIN:VEVENT
UID:fc4b472d-b4bf-4f7e-a6b5-8fd29127cc4f@www.piersons.ca
DTSTAMP:20260423T072859Z
DTSTART:20260424
SUMMARY:Graveside Service
DESCRIPTION:Immediately following the service.
URL:https://www.piersons.ca/obituaries/liya-tekia-demoz
LOCATION: 243208 Garden Road  Calgary AB T1X 1G2
GEO:51.0655703;-113.8852557
END:VEVENT
END:VCALENDAR