BEGIN:VCALENDAR
VERSION:2.0
PRODID:-//Tukios.com/
BEGIN:VEVENT
UID:153c5b45-02f0-4a9b-bcc8-767d7eaf94a8@www.piersons.ca
DTSTAMP:20260423T072406Z
DTSTART:20260424T160000Z
DTEND:20260424T173000Z
SUMMARY:Funeral Service
DESCRIPTION:
URL:https://www.piersons.ca/obituaries/liya-tekia-demoz
LOCATION: 238 8 Street Northeast  Calgary AB T2E 4G7
GEO:51.0545306;-114.0427214
END:VEVENT
END:VCALENDAR